BEGIN:VCALENDAR
VERSION:2.0
PRODID:-//ChamberMaster//Event Calendar 2.0//EN
METHOD:PUBLISH
X-PUBLISHED-TTL:P3D
REFRESH-INTERVAL:P3D
CALSCALE:GREGORIAN
BEGIN:VEVENT
DTSTART:20160616T180000Z
DTEND:20160616T190000Z
X-MICROSOFT-CDO-ALLDAYEVENT:FALSE
SUMMARY:You're Invited: Ribbon Cutting Leukemia & Lymphoma Society
DESCRIPTION:You're Invited to the Official Ribbon Cutting Ceremony for the Leukemia & Lymphoma Society!\n\n\n\nYou are invited to attend the Official Ribbon Cutting Celebration for the Leukemia & Lymphoma Society on Thursday\, June 16 at 1:00PM. The store is located at 3500 Blue Lake Drive\, Birmingham\, AL 35243.
X-ALT-DESC;FMTTYPE=text/html:<p><br />\n<strong>You&#39\;re Invited to the Official Ribbon Cutting Ceremony for the Leukemia &amp\; Lymphoma Society!</strong><br />\n<br />\nYou are invited to attend the Official Ribbon Cutting Celebration for the Leukemia &amp\; Lymphoma Society on Thursday\, June 16 at 1:00PM. The store is located at 3500 Blue Lake Drive\, Birmingham\, AL 35243.<br />\n&nbsp\;</p>\n
LOCATION:Leukemia & Lymphoma Society 3500 Blue Lake Drive Birmingham\, AL 35243
UID:e.145.9581
SEQUENCE:3
DTSTAMP:20260422T030728Z
URL:https://business.shelbychamber.org/events/details/you-re-invited-ribbon-cutting-leukemia-lymphoma-society-06-16-2016-9581
END:VEVENT

END:VCALENDAR
