BEGIN:VCALENDAR
VERSION:2.0
PRODID:-//ChamberMaster//Event Calendar 2.0//EN
METHOD:PUBLISH
X-PUBLISHED-TTL:P3D
REFRESH-INTERVAL:P3D
CALSCALE:GREGORIAN
BEGIN:VEVENT
DTSTART:20160805T150000Z
DTEND:20160805T160000Z
X-MICROSOFT-CDO-ALLDAYEVENT:FALSE
SUMMARY:You're Invited: Ribbon Cutting LJ's Retail Therapy
DESCRIPTION:You're Invited to the Official Ribbon Cutting Ceremony for LJ's Retail Therapy!\n\n\n\nYou are invited to attend the Official Ribbon Cutting Celebration for LJ's Retail Therapy on Friday\, August 5 at 10:00AM. The store is located at 9200 Highway 119 Suite 500\, Alabaster\, AL 35007.
X-ALT-DESC;FMTTYPE=text/html:<p><br />\n<strong>You&#39\;re Invited to the Official Ribbon Cutting Ceremony for LJ&#39\;s Retail Therapy!</strong><br />\n<br />\nYou are invited to attend the Official Ribbon Cutting Celebration for LJ&#39\;s Retail Therapy on Friday\, August 5 at 10:00AM. The store is located at 9200 Highway 119 Suite 500\, Alabaster\, AL 35007.<br />\n&nbsp\;</p>\n
LOCATION:LJ's Retail Therapy 9200 Highway 119 Suite 500 Alabaster\, AL 35007
UID:e.145.9642
SEQUENCE:3
DTSTAMP:20260422T012357Z
URL:https://business.shelbychamber.org/events/details/you-re-invited-ribbon-cutting-lj-s-retail-therapy-08-05-2016-9642
END:VEVENT

END:VCALENDAR
