BEGIN:VCALENDAR
VERSION:2.0
PRODID:-//ChamberMaster//Event Calendar 2.0//EN
METHOD:PUBLISH
X-PUBLISHED-TTL:P3D
REFRESH-INTERVAL:P3D
CALSCALE:GREGORIAN
BEGIN:VEVENT
DTSTART:20160510T190000Z
DTEND:20160510T193000Z
X-MICROSOFT-CDO-ALLDAYEVENT:FALSE
SUMMARY:You're Invited: Ribbon Cutting Mr. Bugg's Pest Patrol\, Inc.
DESCRIPTION:You're Invited to the Grand Opening Celebration of Mr. Bugg's Pest Patrol\, Inc. in Pelham\n \n\nMr. Bugg's Pest Patrol Inc. has built its new facility and is ready to share it with everyone. You are invited to the Official Ribbon Cutting Ceremony on May 10 at 2:00PM to join in support and congratulate them.
X-ALT-DESC;FMTTYPE=text/html:&nbsp\;\n<div style="text-align: center\;"><strong>You&#39\;re Invited to the Grand Opening Celebration of Mr. Bugg&#39\;s Pest Patrol\, Inc. in Pelham</strong></div>\n&nbsp\;\n\n<div>Mr. Bugg&#39\;s Pest Patrol Inc. has built its new facility and is ready to share it with everyone. You are invited to the Official Ribbon Cutting Ceremony on May 10 at 2:00PM to join in support and congratulate them.</div>\n
LOCATION:Mr. Bugg's Pest Patrol\, Inc. 3070 Pelham Parkway Pelham\, AL 35124
UID:e.145.9475
SEQUENCE:3
DTSTAMP:20260422T063828Z
URL:https://business.shelbychamber.org/events/details/you-re-invited-ribbon-cutting-mr-bugg-s-pest-patrol-inc-05-10-2016-9475
END:VEVENT

END:VCALENDAR
