BEGIN:VCALENDAR
VERSION:2.0
PRODID:-//ChamberMaster//Event Calendar 2.0//EN
METHOD:PUBLISH
X-PUBLISHED-TTL:P3D
REFRESH-INTERVAL:P3D
CALSCALE:GREGORIAN
BEGIN:VEVENT
DTSTART:20161110T200000Z
DTEND:20161110T203000Z
X-MICROSOFT-CDO-ALLDAYEVENT:FALSE
SUMMARY:You're Invited: Ribbon Cutting Outback Steakhouse
DESCRIPTION:You're Invited to the Official Ribbon Cutting Ceremony for Outback Steakhouse!\n\n\n\nYou are invited to attend the Official Ribbon Cutting Celebration for Outback Steakhouse on Thursday\, November 10 at 2:00PM. The store is located at 5231 Highway 280 South\, Birmingham\, AL 35242.
X-ALT-DESC;FMTTYPE=text/html:<p><br />\n<strong>You&#39\;re Invited to the Official Ribbon Cutting Ceremony for Outback Steakhouse!</strong><br />\n<br />\nYou are invited to attend the Official Ribbon Cutting Celebration for Outback Steakhouse on Thursday\, November 10 at 2:00PM. The store is located at 5231 Highway 280 South\, Birmingham\, AL 35242.<br />\n&nbsp\;</p>\n
LOCATION:Outback Steakhouse 5231 Highway 280 South Birmingham\, AL 35242
UID:e.145.9801
SEQUENCE:3
DTSTAMP:20260421T151628Z
URL:https://business.shelbychamber.org/events/details/you-re-invited-ribbon-cutting-outback-steakhouse-9801
END:VEVENT

END:VCALENDAR
