BEGIN:VCALENDAR
VERSION:2.0
PRODID:-//ChamberMaster//Event Calendar 2.0//EN
METHOD:PUBLISH
X-PUBLISHED-TTL:P3D
REFRESH-INTERVAL:P3D
CALSCALE:GREGORIAN
BEGIN:VEVENT
DTSTART:20161118T150000Z
DTEND:20161118T153000Z
X-MICROSOFT-CDO-ALLDAYEVENT:FALSE
SUMMARY:You're Invited: Ribbon Cutting Rustic Furniture
DESCRIPTION:You're Invited to the Official Ribbon Cutting Ceremony for Rustic Furniture!\n\n\n\nYou are invited to attend the Official Ribbon Cutting Celebration for Rustic Furniture on Friday\, November 18 at 9:00AM. The store is located at 2844 Pelham Parkway \, Pelham\, AL 35124.
X-ALT-DESC;FMTTYPE=text/html:<p><br />\n<strong>You&#39\;re Invited to the Official Ribbon Cutting Ceremony for Rustic Furniture!</strong><br />\n<br />\nYou are invited to attend the Official Ribbon Cutting Celebration for Rustic Furniture on Friday\, November 18 at 9:00AM. The store is located at 2844 Pelham Parkway \, Pelham\, AL 35124.<br />\n&nbsp\;</p>\n
LOCATION:Rustic Furniture 2844 Pelham Parkway Pelham\, AL 35124
UID:e.145.9804
SEQUENCE:3
DTSTAMP:20260421T151621Z
URL:https://business.shelbychamber.org/events/details/you-re-invited-ribbon-cutting-rustic-furniture-9804
END:VEVENT

END:VCALENDAR
