BEGIN:VCALENDAR
VERSION:2.0
PRODID:-//ChamberMaster//Event Calendar 2.0//EN
METHOD:PUBLISH
X-PUBLISHED-TTL:P3D
REFRESH-INTERVAL:P3D
CALSCALE:GREGORIAN
BEGIN:VEVENT
DTSTART:20160827T150000Z
DTEND:20160827T160000Z
X-MICROSOFT-CDO-ALLDAYEVENT:FALSE
SUMMARY:You're Invited: Ribbon Cutting Salon Adair
DESCRIPTION:You're Invited to the Official Ribbon Cutting Ceremony for Salon Adair!\n\n\n\nYou are invited to attend the Official Ribbon Cutting Celebration for Salon Adair on Saturday\, August 27 at 10:00AM. The store is located at 4300 Helena Road\, Helena\, AL 35080.
X-ALT-DESC;FMTTYPE=text/html:<p><br />\n<strong>You&#39\;re Invited to the Official Ribbon Cutting Ceremony for Salon Adair!</strong><br />\n<br />\nYou are invited to attend the Official Ribbon Cutting Celebration for Salon Adair on Saturday\, August 27 at 10:00AM. The store is located at 4300 Helena Road\, Helena\, AL 35080.<br />\n&nbsp\;</p>\n
LOCATION:Salon Adair 4300 Helena Road Helena\, AL 35080
UID:e.145.9714
SEQUENCE:3
DTSTAMP:20260421T234944Z
URL:https://business.shelbychamber.org/events/details/you-re-invited-ribbon-cutting-salon-adair-08-27-2016-9714
END:VEVENT

END:VCALENDAR
