BEGIN:VCALENDAR
VERSION:2.0
PRODID:-//ChamberMaster//Event Calendar 2.0//EN
METHOD:PUBLISH
X-PUBLISHED-TTL:P3D
REFRESH-INTERVAL:P3D
CALSCALE:GREGORIAN
BEGIN:VEVENT
DTSTART:20170208T233000Z
DTEND:20170209T003000Z
X-MICROSOFT-CDO-ALLDAYEVENT:FALSE
SUMMARY:You're Invited: Ribbon Cutting Senior Chef
DESCRIPTION:You're Invited to the Official Ribbon Cutting Ceremony for Senior Chef!\n\n\n\nYou are invited to attend the Official Ribbon Cutting Celebration for Senior Chef on Wednesday\, February 8 at 5:30PM. The store is located at 4091 Helena Road\, Helena\, AL 35080.
X-ALT-DESC;FMTTYPE=text/html:<p><br />\n<strong>You&#39\;re Invited to the Official Ribbon Cutting Ceremony for Senior Chef!</strong><br />\n<br />\nYou are invited to attend the Official Ribbon Cutting Celebration for Senior Chef on Wednesday\, February 8 at 5:30PM. The store is located at <span class="_Xbe">4091 Helena Road</span>\, Helena\, AL 35080.</p>\n
LOCATION:Senior Chef 4091 Helena Road Helena\, AL 35080
UID:e.145.10351
SEQUENCE:3
DTSTAMP:20260421T103836Z
URL:https://business.shelbychamber.org/events/details/you-re-invited-ribbon-cutting-senior-chef-10351
END:VEVENT

END:VCALENDAR
