BEGIN:VCALENDAR
VERSION:2.0
PRODID:-//ChamberMaster//Event Calendar 2.0//EN
METHOD:PUBLISH
X-PUBLISHED-TTL:P3D
REFRESH-INTERVAL:P3D
CALSCALE:GREGORIAN
BEGIN:VEVENT
DTSTART:20170220T170000Z
DTEND:20170220T173000Z
X-MICROSOFT-CDO-ALLDAYEVENT:FALSE
SUMMARY:You're Invited: Ribbon Cutting Soccer Post of Birmingham
DESCRIPTION:You're Invited to the Official Ribbon Cutting Ceremony for Soccer Post of Birmingham! \n\n\n\nYou are invited to attend the Official Ribbon Cutting Celebration for Soccer Post of Birmingham on Monday\, February 20 at 11:00AM. The store is located at 5291 Valleydale Road Unit 137\, Birmingham\, AL 35242.
X-ALT-DESC;FMTTYPE=text/html:<p><br />\n<strong>You&#39\;re Invited to the Official Ribbon Cutting Ceremony for Soccer Post of Birmingham! </strong><br />\n<br />\nYou are invited to attend the Official Ribbon Cutting Celebration for Soccer Post of Birmingham on Monday\, February 20 at 11:00AM. The store is located at 5291 Valleydale Road Unit 137\, Birmingham\, AL 35242.<br />\n&nbsp\;</p>\n
LOCATION:Soccer Post of Birmingham 5291 Valleydale Road Unit 137 Birmingham\, AL 35242
UID:e.145.10375
SEQUENCE:3
DTSTAMP:20260421T104301Z
URL:https://business.shelbychamber.org/events/details/you-re-invited-ribbon-cutting-soccer-post-of-birmingham-10375
END:VEVENT

END:VCALENDAR
