BEGIN:VCALENDAR
VERSION:2.0
PRODID:-//ChamberMaster//Event Calendar 2.0//EN
METHOD:PUBLISH
X-PUBLISHED-TTL:P3D
REFRESH-INTERVAL:P3D
CALSCALE:GREGORIAN
BEGIN:VEVENT
DTSTART:20161031T140000Z
DTEND:20161031T143000Z
X-MICROSOFT-CDO-ALLDAYEVENT:FALSE
SUMMARY:You're Invited: Ribbon Cutting Southern Paw Pet Parlor
DESCRIPTION:You're Invited to the Official Ribbon Cutting Ceremony for Southern Paw Pet Parlor!\n\n\n\nYou are invited to attend the Official Ribbon Cutting Celebration for Southern Pet Paw Parlor on Monday\, October 31 at 9:00AM. The business is located at 120 Old Highway 25 West\, Columbiana\, AL 35051.
X-ALT-DESC;FMTTYPE=text/html:<p><br />\n<strong>You&#39\;re Invited to the Official Ribbon Cutting Ceremony for Southern Paw Pet Parlor!</strong><br />\n<br />\nYou are invited to attend the Official Ribbon Cutting Celebration for Southern Pet Paw Parlor on Monday\, October 31 at 9:00AM. The business is located at 120 Old Highway 25 West\, Columbiana\, AL 35051.</p>\n
LOCATION:Southern Paw Pet Parlor 120 Old Highway 25 West Columbiana\, AL 35051
UID:e.145.9782
SEQUENCE:3
DTSTAMP:20260421T165308Z
URL:https://business.shelbychamber.org/events/details/you-re-invited-ribbon-cutting-southern-paw-pet-parlor-9782
END:VEVENT

END:VCALENDAR
