BEGIN:VCALENDAR
VERSION:2.0
PRODID:-//ChamberMaster//Event Calendar 2.0//EN
METHOD:PUBLISH
X-PUBLISHED-TTL:P3D
REFRESH-INTERVAL:P3D
CALSCALE:GREGORIAN
BEGIN:VEVENT
DTSTART:20160310T160000Z
DTEND:20160310T161500Z
X-MICROSOFT-CDO-ALLDAYEVENT:FALSE
SUMMARY:You're Invited: Ribbon Cutting State Farm Insurance\, Chad Hartsfield Agency Insurance
DESCRIPTION:You're Invited to the Official Ribbon Cutting Ceremony for State Farm Insurance\, Chad Hartsfield Agency Insurance!\n\n\n\nYou are invited to attend the Official Ribbon Cutting Celebration for State Farm Insurance\, Chad Hartsfield Agency Insurance on Thursday\, March 10 at 10:00AM. The agency is located at 460 Cahaba Park Circle\, Birmingham\, AL 35242.\n\n\n\nChad Hartsfield Agency Insurance is located across from Chick-fil-A\, Inverness on Highway 280 -- on the second level.
X-ALT-DESC;FMTTYPE=text/html:<p><br />\n<strong>You&#39\;re Invited to the Official Ribbon Cutting Ceremony for State Farm Insurance\, Chad Hartsfield Agency Insurance!</strong><br />\n<br />\nYou are invited to attend the Official Ribbon Cutting Celebration for State Farm Insurance\, Chad Hartsfield Agency Insurance on Thursday\, March 10 at 10:00AM. The agency is located at 460 Cahaba Park Circle\, Birmingham\, AL 35242.<br />\n<br />\nChad Hartsfield Agency Insurance is located across from Chick-fil-A\, Inverness on Highway 280 -- on the second level.<br />\n&nbsp\;</p>\n
LOCATION:State Farm Insurance\, Chad Hartsfield Agency Insurance 460 Cahaba Park Circle Birmingham\, AL 35242 (205) 783-5692
UID:e.145.9397
SEQUENCE:3
DTSTAMP:20260422T075359Z
URL:https://business.shelbychamber.org/events/details/you-re-invited-ribbon-cutting-state-farm-insurance-chad-hartsfield-agency-insurance-03-10-2016-9397
END:VEVENT

END:VCALENDAR
