BEGIN:VCALENDAR
VERSION:2.0
PRODID:-//ChamberMaster//Event Calendar 2.0//EN
METHOD:PUBLISH
X-PUBLISHED-TTL:P3D
REFRESH-INTERVAL:P3D
CALSCALE:GREGORIAN
BEGIN:VEVENT
DTSTART:20170329T223000Z
DTEND:20170329T233000Z
X-MICROSOFT-CDO-ALLDAYEVENT:FALSE
SUMMARY:You're Invited: Ribbon Cutting Teen Queens
DESCRIPTION:You're Invited to the Official Ribbon Cutting Ceremony for Teen Queens!\n\n\n\nYou are invited to attend the Official Ribbon Cutting Celebration for Teen Queens on Wednesday\, March 29 at 5:30PM. The store is located at 4045 Helena Road\, Helena\, AL 35080.
X-ALT-DESC;FMTTYPE=text/html:<p><br />\n<strong>You&#39\;re Invited to the Official Ribbon Cutting Ceremony for Teen Queens!</strong><br />\n<br />\nYou are invited to attend the Official Ribbon Cutting Celebration for Teen Queens on Wednesday\, March 29 at 5:30PM. The store is located at <span class="_Xbe">4045 Helena Road</span>\, Helena\, AL 35080.</p>\n
LOCATION:Teen Queens 4045 Helena Road Helena\, AL 35080
UID:e.145.10516
SEQUENCE:3
DTSTAMP:20260421T104308Z
URL:https://business.shelbychamber.org/events/details/you-re-invited-ribbon-cutting-teen-queens-10516
END:VEVENT

END:VCALENDAR
