BEGIN:VCALENDAR
VERSION:2.0
PRODID:-//ChamberMaster//Event Calendar 2.0//EN
METHOD:PUBLISH
X-PUBLISHED-TTL:P3D
REFRESH-INTERVAL:P3D
CALSCALE:GREGORIAN
BEGIN:VEVENT
DTSTART:20161022T150000Z
DTEND:20161022T160000Z
X-MICROSOFT-CDO-ALLDAYEVENT:FALSE
SUMMARY:You're Invited: Ribbon Cutting The Gazebo - Debbie Svensson
DESCRIPTION:You're Invited to the Official Ribbon Cutting Ceremony for The Gazebo - Debbie Svensson!\n\n\n\nYou are invited to attend the Official Ribbon Cutting Celebration for The Gazebo - Debbie Svensson on Saturday\, October 22 at 10:00AM. The store is located at 3853 Helena Road\, Helena\, AL 35080.
X-ALT-DESC;FMTTYPE=text/html:<p><br />\n<strong>You&#39\;re Invited to the Official Ribbon Cutting Ceremony for The Gazebo - Debbie Svensson!</strong><br />\n<br />\nYou are invited to attend the Official Ribbon Cutting Celebration for The Gazebo - Debbie Svensson on Saturday\, October 22 at 10:00AM. The store is located at 3853 Helena Road\, Helena\, AL 35080.<br />\n&nbsp\;</p>\n
LOCATION:The Gazebo - Debbie Svensson 3853 Helena Road Helena\, AL 35080
UID:e.145.9781
SEQUENCE:3
DTSTAMP:20260421T183519Z
URL:https://business.shelbychamber.org/events/details/you-re-invited-ribbon-cutting-the-gazebo-debbie-svensson-9781
END:VEVENT

END:VCALENDAR
