BEGIN:VCALENDAR
VERSION:2.0
PRODID:-//ChamberMaster//Event Calendar 2.0//EN
METHOD:PUBLISH
X-PUBLISHED-TTL:P3D
REFRESH-INTERVAL:P3D
CALSCALE:GREGORIAN
BEGIN:VEVENT
DTSTART:20160714T210000Z
DTEND:20160714T213000Z
X-MICROSOFT-CDO-ALLDAYEVENT:FALSE
SUMMARY:You're Invited: Ribbon Cutting Therapy South\, Nolan Williams DPT\, MTC
DESCRIPTION:You're Invited to the Official Ribbon Cutting Ceremony for Therapy South\, Nolan Williams DPT\, MTC!\n\n\n\nYou are invited to attend the Official Ribbon Cutting Celebration for Therapy South\, Nolan Williams DPT\, MTC on Thursday\, July 14 at 4:00PM. The store is located at 4690 Highway 17\, Helena\, AL 35080.
X-ALT-DESC;FMTTYPE=text/html:<p><br />\n<strong>You&#39\;re Invited to the Official Ribbon Cutting Ceremony for Therapy South\, Nolan Williams DPT\, MTC!</strong><br />\n<br />\nYou are invited to attend the Official Ribbon Cutting Celebration for Therapy South\, Nolan Williams DPT\, MTC on Thursday\, July 14 at 4:00PM. The store is located at 4690 Highway 17\, Helena\, AL 35080.<br />\n&nbsp\;</p>\n
LOCATION:Therapy South\, Nolan Williams DPT\, MTC 4690 Highway 17 Helena\, AL 35080
UID:e.145.9635
SEQUENCE:3
DTSTAMP:20260422T013946Z
URL:https://business.shelbychamber.org/events/details/you-re-invited-ribbon-cutting-therapy-south-nolan-williams-dpt-mtc-07-14-2016-9635
END:VEVENT

END:VCALENDAR
