BEGIN:VCALENDAR
VERSION:2.0
PRODID:-//ChamberMaster//Event Calendar 2.0//EN
METHOD:PUBLISH
X-PUBLISHED-TTL:P3D
REFRESH-INTERVAL:P3D
CALSCALE:GREGORIAN
BEGIN:VEVENT
DTSTART:20170317T180000Z
DTEND:20170317T183000Z
X-MICROSOFT-CDO-ALLDAYEVENT:FALSE
SUMMARY:You're Invited: Ribbon Cutting US Health Advisors Southeast
DESCRIPTION:You're Invited to the Official Ribbon Cutting Ceremony for US Health Advisors Southeast!\n\n\n\nYou are invited to attend the Official Ribbon Cutting Celebration for US Health Advisors Southeast on Friday\, March 17 at 1:00PM. The store is located at 741 Volare Drive\, Pelham\, AL 35142.
X-ALT-DESC;FMTTYPE=text/html:<p><br />\n<strong>You&#39\;re Invited to the Official Ribbon Cutting Ceremony for US Health Advisors Southeast!</strong><br />\n<br />\nYou are invited to attend the Official Ribbon Cutting Celebration for US Health Advisors Southeast on Friday\, March 17 at 1:00PM. The store is located at 741 Volare Drive\, Pelham\, AL 35142.</p>\n
LOCATION:US Health Advisors Southeast 741 Volare Drive Pelham\, AL 35124
UID:e.145.10513
SEQUENCE:3
DTSTAMP:20260421T104228Z
URL:https://business.shelbychamber.org/events/details/you-re-invited-ribbon-cutting-us-health-advisors-southeast-10513
END:VEVENT

END:VCALENDAR
