BEGIN:VCALENDAR
VERSION:2.0
PRODID:-//ChamberMaster//Event Calendar 2.0//EN
METHOD:PUBLISH
X-PUBLISHED-TTL:P3D
REFRESH-INTERVAL:P3D
CALSCALE:GREGORIAN
BEGIN:VEVENT
DTSTART:20161115T170000Z
DTEND:20161115T183000Z
X-MICROSOFT-CDO-ALLDAYEVENT:FALSE
SUMMARY:You're Invited to: Shelby - Bridge of Hope Outreach Event!
DESCRIPTION:Kids First Community Center in Alabaster\, and some caring friends .\n\nWould like to introduce their first community wide adult program\, Bridge of Hope!\n\n \n\nHelping Our Parents through Education\n\nA Literacy\, GED\, Interview/Resume Skills\, Parent Workshop\, and Certified Programs\n\n***********************************\n\nThis is a joint collaboration with the Shelby County Board of Education\, Alabaster Career Center\, Literacy Council\, Gateway Counseling\, and many more to provide free service to adults through education and resources.\n\n \n\nOur goal is to help make a positive difference in the at-risk community's daily living.\n\nOne family at a time!\n\n**********************\n\nWe are celebrating our new Bridge of Hope Program with:\n\nA Dedication and Lunch\n\nAt the Shelby County Instructional Service Center\n\n601 1st St S (HWY 31) Alabaster\, Alabama 35007\n\nRSVP by 11/14/16 to 205-706-9467\n\nOur Guest Speakers:\n\nState Department of Education-Board - Mrs. Stephanie Bell\,  Director of the Office of Faith-Based and Community Initiatives Mr. Jon Mason\, and Superintendent of Shelby County Board of Education Mr. Randy Fuller \n\nNovember 15\, 2016\n\n11:00am - 12:30pm\n\n \n\nFor more information call: 205-994-8300 or 205-706-9467  www.hope1.org
X-ALT-DESC;FMTTYPE=text/html:<p align="center" style="margin: 0in 0in 10pt\; text-align: center\;"><b><span style="line-height: 115%\; font-size: 14pt\;"><font face="Calibri Bold">Kids First Community Center in Alabaster\, and some caring friends&hellip\;.</font></span></b></p>\n\n<p align="center" style="margin: 0in 0in 10pt\; text-align: center\;"><b><span style="line-height: 115%\; font-size: 14pt\;"><font face="Calibri Bold">Would like to introduce their first community wide adult program\, Bridge of Hope!</font></span></b></p>\n\n<p align="center" style="margin: 0in 0in 0pt\; text-align: center\;">&nbsp\;</p>\n\n<p align="center" style="margin: 0in 0in 0pt\; text-align: center\;"><b><span style="color: red\; line-height: 115%\; font-size: 12pt\;"><font face="Calibri Bold">H</font></span></b><span style="color: red\; line-height: 115%\; font-size: 12pt\;"><font face="Calibri Regular">elping </font><b><font face="Calibri Bold">O</font></b><font face="Calibri Regular">ur </font><b><font face="Calibri Bold">P</font></b><font face="Calibri Regular">arents through </font><b><font face="Calibri Bold">E</font></b><font face="Calibri Regular">ducation</font></span></p>\n\n<p align="center" style="margin: 0in 0in 10pt\; text-align: center\;"><b><span style="line-height: 115%\; font-size: 12pt\;"><font face="Calibri Bold">A Literacy\, GED\, Interview/Resume Skills\, Parent Workshop\, and Certified Programs</font></span></b></p>\n\n<p align="center" style="margin: 0in 0in 10pt\; text-align: center\;"><b><span style="line-height: 115%\; font-size: 12pt\;"><font face="Calibri Bold">***********************************<br />\nThis is a joint collaboration with the Shelby County Board of Education\, Alabaster Career Center\, Literacy Council\, Gateway Counseling\, and many more to provide free service to adults through education and resources.</font></span></b></p>\n\n<p align="center" style="margin: 0in 0in 0pt\; text-align: center\;"><b><span style="font-size: 12pt\;"><font face="Calibri Bold">&nbsp\;</font></span></b></p>\n\n<p align="center" style="margin: 0in 0in 0pt\; text-align: center\;"><b><span style="font-size: 12pt\;"><font face="Calibri Bold">Our goal is to help make a positive difference in the at-risk community&rsquo\;s daily living.<br />\nOne family at a time!</font></span></b></p>\n\n<p align="center" style="margin: 0in 0in 10pt\; text-align: center\;"><b><span style="line-height: 115%\; font-size: 16pt\;"><font face="Calibri Bold">**********************</font></span></b></p>\n\n<p align="center" style="margin: 0in 0in 10pt\; text-align: center\;"><b><span style="line-height: 115%\; font-size: 12pt\;"><font face="Calibri Bold">We are celebrating our new Bridge of Hope Program with:</font></span></b></p>\n\n<p align="center" style="margin: 0in 0in 10pt\; text-align: center\;"><b><span style="line-height: 115%\; font-size: 12pt\;"><font face="Calibri Bold">A Dedication and Lunch</font></span></b></p>\n\n<p align="center" style="margin: 0in 0in 10pt\; text-align: center\;"><b><span style="line-height: 115%\; font-size: 12pt\;"><font face="Calibri Bold">At the Shelby County Instructional Service Center</font></span></b></p>\n\n<p align="center" style="margin: 0in 0in 10pt\; text-align: center\;"><b><span style="line-height: 115%\; font-size: 12pt\;"><font face="Calibri Bold">601 1<sup>st</sup> St S (HWY 31) Alabaster\, Alabama 35007</font></span></b><br />\n<strong>RSVP by 11/14/16 to 205-706-9467</strong></p>\n\n<p align="center" style="margin: 0in 0in 10pt\; text-align: center\;"><b><span style="line-height: 115%\; font-size: 12pt\;"><font face="Calibri Bold">Our Guest Speakers:</font></span></b></p>\n\n<p align="center" style="margin: 0in 0in 10pt\; text-align: center\;"><b><span style="line-height: 115%\; font-size: 12pt\;"><font face="Calibri Bold">State Department of Education-Board - Mrs. Stephanie Bell\, </font></span></b><b><span style="line-height: 115%\; font-size: 12pt\;"><font face="Calibri Bold">&nbsp\;Director of the Office of Faith-Based and Community Initiatives Mr. Jon Mason\, and Superintendent of Shelby County Board of Education Mr. Randy Fuller&nbsp\;</font></span></b></p>\n\n<p align="center" style="margin: 0in 0in 0pt\; text-align: center\; line-height: normal\;"><b><span bodoni="" font-size:="" style="color: red\; font-family: ">November 15\, 2016</span></b></p>\n\n<p align="center" style="margin: 0in 0in 0pt\; text-align: center\; line-height: normal\;"><b><span bodoni="" font-size:="" style="color: red\; font-family: ">11:00am - 12:30pm</span></b></p>\n\n<p align="center" style="margin: 0in 0in 0pt\; text-align: center\; line-height: normal\;"><b><span bodoni="" font-size:="" style="color: red\; font-family: ">&nbsp\;</span></b></p>\n\n<p align="center" style="margin: 0in 0in 0pt\; text-align: center\; line-height: normal\;"><b><span bodoni="" font-size:="" style="color: red\; font-family: ">For more information call: 205-994-8300 or 205-706-9467&nbsp\; </span></b><a href="http://www.hope1.org/" target="_parent"><b><span bodoni="" font-size:="" style="font-family: "><u><font color="#0000ff">www.hope1.org</font></u></span></b></a></p>\n
LOCATION:Shelby County Instructional Service Center 601 1st St S (HWY 31) Alabaster\, Alabama 35007
UID:e.145.9805
SEQUENCE:3
DTSTAMP:20260421T151747Z
URL:https://business.shelbychamber.org/events/details/you-re-invited-to-shelby-bridge-of-hope-outreach-event-9805
END:VEVENT

END:VCALENDAR
