BEGIN:VCALENDAR
VERSION:2.0
PRODID:-//ChamberMaster//Event Calendar 2.0//EN
METHOD:PUBLISH
X-PUBLISHED-TTL:P3D
REFRESH-INTERVAL:P3D
CALSCALE:GREGORIAN
BEGIN:VEVENT
DTSTART:20140618T203000Z
DTEND:20140618T220000Z
X-MICROSOFT-CDO-ALLDAYEVENT:FALSE
SUMMARY:You're Invited to Tea-Time Discussion on Cancer Prevention
DESCRIPTION:Come Join us at Q&Aid Research Institute for Tea-Time Discussion on Cancer Prevention\n\n\n\nWednesday\, June 18\, 2014\n\n3:30PM - 5:00PM with refreshments & herbal tea\n\nQ&Aid Research Institute\n\n120 Oxmoor Blvd.\, Ste. 130\n\nBirmingham\, AL 35209\n\nwww.QandAid.com\n\n(205) 224-4468\n\n\n\nWhat we'll Learn & Discuss:  (Click here to open a .jpg/ printable flier)\n\n\n	How cells become cancer\n	How to minimize exposure to carcinogens\n	What triggers cancer to wake and grow\n	How to reduce the risk of cancer\n	How to maintain good bodily health\n\nDr. Zican Qu is an established cancer research scientist. She earned her PhD in life science at The John Hopkins University. During her 20+ years in the biomedical research\, Dr. Qu has published many highly esteemed articles and holds several patents on cancer drug discovery as an inventor. She currently focuses her research on medicinal herbs for cancer prevention and health management at Q&Aid Research Institute. She also serves as an adjunct faculty member in the Comprehensive Cancer Center at the University of Alabama at Birmingham (UAB).
X-ALT-DESC;FMTTYPE=text/html:<br />\n<strong>Come Join us at Q&amp\;Aid Research Institute for Tea-Time Discussion on Cancer Prevention</strong><br />\n<br />\nWednesday\, June 18\, 2014<br />\n3:30PM - 5:00PM with refreshments &amp\; herbal tea<br />\nQ&amp\;Aid Research Institute<br />\n120 Oxmoor Blvd.\, Ste. 130<br />\nBirmingham\, AL 35209<br />\nwww.QandAid.com<br />\n(205) 224-4468<br />\n<br />\nWhat we&#39\;ll Learn &amp\; Discuss:&nbsp\; (<a href="http://cloud.chambermaster.com/userfiles/UserFiles/chambers/145/File/Community Events/QAid.png">Click here to open a .jpg/ printable flier</a>)\n\n<ul>\n	<li>How cells become cancer</li>\n	<li>How to minimize exposure to carcinogens</li>\n	<li>What triggers cancer to wake and grow</li>\n	<li>How to reduce the risk of cancer</li>\n	<li>How to maintain good bodily health</li>\n</ul>\nDr. Zican Qu is an established cancer research scientist. She earned her PhD in life science at The John Hopkins University. During her 20+ years in the biomedical research\, Dr. Qu has published many highly esteemed articles and holds several patents on cancer drug discovery as an inventor. She currently focuses her research on medicinal herbs for cancer prevention and health management at Q&amp\;Aid Research Institute. She also serves as an adjunct faculty member in the Comprehensive Cancer Center at the University of Alabama at Birmingham (UAB).
LOCATION:Q&Aid Research Institute 120 Oxmoor Blvd.\, Ste. 130 Birmingham\, AL 35209 www.QandAid.com (205) 224-4468
UID:e.145.5528
SEQUENCE:3
DTSTAMP:20260423T151609Z
URL:https://business.shelbychamber.org/events/details/you-re-invited-to-tea-time-discussion-on-cancer-prevention-06-18-2014-5528
END:VEVENT

END:VCALENDAR
