BEGIN:VCALENDAR
VERSION:2.0
PRODID:-//ChamberMaster//Event Calendar 2.0//EN
METHOD:PUBLISH
X-PUBLISHED-TTL:P3D
REFRESH-INTERVAL:P3D
CALSCALE:GREGORIAN
BEGIN:VEVENT
DTSTART:20140520T160000Z
DTEND:20140520T190000Z
X-MICROSOFT-CDO-ALLDAYEVENT:FALSE
SUMMARY:You're Invited to the North Shelby Dental Studio Open House
DESCRIPTION:Please Join us on Tuesday\, May 20th\, 11:00am for our Open House!  Our office opened on April 15th\, 2014 and we are so excited to be a part of Shelby County and stand alongside some of the best business men and women that this fine State of Alabama has to offer. \n\n\n\nSo\, please come take a look around\, enjoy some refreshments\, meet new people and even chat with those you may already know!
X-ALT-DESC;FMTTYPE=text/html:<font face="comic sans ms" size="4"><span style="color:#0000ff\;">Please Join us on Tuesday\, May 20th\, 11:00am for our Open House! &nbsp\;Our office opened on April 15th\, 2014 and we are so excited to be a part of Shelby County and stand alongside some of the best business men and women that this fine State of Alabama has to offer.&nbsp\;<br />\n<br />\nSo\, please come take a look around\, enjoy some refreshments\, meet new people and even chat with those you may already know! &nbsp\;</span></font><br />\n<br />\n&nbsp\;
LOCATION:We are located on Valleydale road. In the Condominium complex across the street from the Hardee's and Faulkner University. North Shelby Dental Studio 2000 Southlake Park\, Suite 250 Hoover\, Alabama 35244
UID:e.145.5500
SEQUENCE:3
DTSTAMP:20260423T165615Z
URL:https://business.shelbychamber.org/events/details/you-re-invited-to-the-north-shelby-dental-studio-open-house-05-20-2014-5500
END:VEVENT

END:VCALENDAR
