BEGIN:VCALENDAR
VERSION:2.0
PRODID:-//ChamberMaster//Event Calendar 2.0//EN
METHOD:PUBLISH
X-PUBLISHED-TTL:P3D
REFRESH-INTERVAL:P3D
CALSCALE:GREGORIAN
BEGIN:VEVENT
DTSTART:20131008T210000Z
DTEND:20131008T230000Z
X-MICROSOFT-CDO-ALLDAYEVENT:FALSE
SUMMARY:You're Invited to the Regus Ribbon Cutting!
DESCRIPTION:You are invited to the official ribbon cutting ceremony for Regus 4:00PM   6:00 enjoy food and door prizes!! Regus Business Center located at 2700 Corporate Drive\, Suite 200\, Birmingham\, AL  35242 (Meadow Brook Center located at Highway 280 and 119).\n\n\n\nSituated in a 175-acre Class-A office park\, the Meadow Brook business center is perfectly placed for business in and around the dynamic growth area of Birmingham\, Alabama. It occupies a high-quality low-rise building in the suburban Highway 280/I-459 sub-market looking out over pleasant landscaping with plenty of car parking. Lying to the southwest of Messer Airport - 30 minutes away by road - the business center is easy to get to from US Highway 280\, and offers access to interstates I-20\, I-459 and I-65. Business neighbors include medical professionals\, media and communications\, and steel processing and distribution firms\, as well as large corporations in insurance\, health insurance and telecoms. Birmingham is strategically well located for business with big cities circling it\, including Atlanta\, New Orleans\, Mobile and its port\, Memphis and Nashville.\n\n\n\nYou are invited to join in the ribbon cutting ceremony\, tour the facility\, and see for yourself the business amenities Regus offers.
X-ALT-DESC;FMTTYPE=text/html:You are invited to the official ribbon cutting ceremony for <a href="http://www.regus.com/locations/business-centre/alabama-birmingham-meadow-brook" target="_blank">Regus 4:00PM &ndash\; 6:00 enjoy food and door prizes!</a>! Regus Business Center located at 2700 Corporate Drive\, Suite 200\, Birmingham\, AL&nbsp\; 35242 (Meadow Brook Center located at Highway 280 and 119).<br />\n<br />\nSituated in a 175-acre Class-A office park\, the Meadow Brook business center is perfectly placed for business in and around the dynamic growth area of Birmingham\, Alabama. It occupies a high-quality low-rise building in the suburban Highway 280/I-459 sub-market looking out over pleasant landscaping with plenty of car parking. Lying to the southwest of Messer Airport - 30 minutes away by road - the business center is easy to get to from US Highway 280\, and offers access to interstates I-20\, I-459 and I-65. Business neighbors include medical professionals\, media and communications\, and steel processing and distribution firms\, as well as large corporations in insurance\, health insurance and telecoms. Birmingham is strategically well located for business with big cities circling it\, including Atlanta\, New Orleans\, Mobile and its port\, Memphis and Nashville.<br />\n<br />\nYou are invited to join in the ribbon cutting ceremony\, tour the facility\, and see for yourself the business amenities Regus offers.
LOCATION:Regus 2700 Corporate Drive\, Suite 200\, Birmingham\, AL 35242 Meadow Brook Center located at Highway 280 and 119
UID:e.145.4724
SEQUENCE:3
DTSTAMP:20260424T033812Z
URL:https://business.shelbychamber.org/events/details/you-re-invited-to-the-regus-ribbon-cutting-10-08-2013-4724
END:VEVENT

END:VCALENDAR
