BEGIN:VCALENDAR
VERSION:2.0
PRODID:-//ChamberMaster//Event Calendar 2.0//EN
METHOD:PUBLISH
X-PUBLISHED-TTL:P3D
REFRESH-INTERVAL:P3D
CALSCALE:GREGORIAN
BEGIN:VEVENT
DTSTART:20140531T000000Z
DTEND:20140531T010000Z
X-MICROSOFT-CDO-ALLDAYEVENT:FALSE
SUMMARY:Your Health Your Choice
DESCRIPTION:Want to start the Summer off on a healthy note? Please join us to hear Dr. Richard DuBois\, one of the world's leading authorities on infectious disease\, speak at the Homewood Library on Friday\, May 30th\, from 7:00 to 8:00 PM. He will address "Your Health\, Your Choice" and you will walk away ready to make some lifestyle changes for better health and wellness!
X-ALT-DESC;FMTTYPE=text/html:Want to start the Summer off on a healthy note? Please join us to hear Dr. Richard DuBois\, one of the world&#39\;s leading authorities on infectious disease\, speak at the Homewood Library on Friday\, May 30th\, from 7:00 to 8:00 PM. He will address &quot\;Your Health\, Your Choice&quot\; and you will walk away ready to make some lifestyle changes for better health and wellness!
LOCATION:Homewood Library Main Auditorium 1721 Oxmoor Road Homewood\, AL 35209
UID:e.145.5508
SEQUENCE:3
DTSTAMP:20260423T183835Z
URL:https://business.shelbychamber.org/events/details/your-health-your-choice-05-30-2014-5508
END:VEVENT

END:VCALENDAR
