BEGIN:VCALENDAR
VERSION:2.0
PRODID:-//ChamberMaster//Event Calendar 2.0//EN
METHOD:PUBLISH
X-PUBLISHED-TTL:P3D
REFRESH-INTERVAL:P3D
CALSCALE:GREGORIAN
BEGIN:VEVENT
DTSTART:20160303T220000Z
DTEND:20160304T003000Z
X-MICROSOFT-CDO-ALLDAYEVENT:FALSE
SUMMARY:YP Open House
DESCRIPTION:Experience the reward of working with local businesses. Do you want to take your sales career to the next level? Are you passionate about success and want to work in a rapidly expanding digital brand that has over 70 million visitors a month? YP is seeking Inside Sales Reps to join our growing team. Minimum Qualification AS/BA/BS degree or 1+ successful years in outbound call center sales.
X-ALT-DESC;FMTTYPE=text/html:Experience the reward of working with local businesses. Do you want to take your sales career to the next level? Are you passionate about success and want to work in a rapidly expanding digital brand that has over 70 million visitors a month? YP is seeking Inside Sales Reps to join our growing team. Minimum Qualification AS/BA/BS degree or 1+ successful years in outbound call center sales.
LOCATION:200 Missionary Ridge\, Birmingham\, Alabama
UID:e.145.8386
SEQUENCE:3
DTSTAMP:20260422T074818Z
URL:https://business.shelbychamber.org/events/details/yp-open-house-03-03-2016-8386
END:VEVENT

END:VCALENDAR
