BEGIN:VCALENDAR
VERSION:2.0
PRODID:-//ChamberMaster//Event Calendar 2.0//EN
METHOD:PUBLISH
X-PUBLISHED-TTL:P3D
REFRESH-INTERVAL:P3D
CALSCALE:GREGORIAN
BEGIN:VEVENT
DTSTART:20140809T010000Z
DTEND:20140809T030000Z
X-MICROSOFT-CDO-ALLDAYEVENT:FALSE
SUMMARY:Zap Pronto
DESCRIPTION:Original play by local playwright Dan Strickland\, who also directs\,\n\nCan Zap Pronto and Gale save the Earth from the maniacal machinations of the evil Emperor from the planet Pergo? \n\n \n\nYou'll only know if you attend the performance!
X-ALT-DESC;FMTTYPE=text/html:<font size="2">Original play by local playwright Dan Strickland\, who also directs\,</font>\n\n<p><span style="font-size: small\;"><span style="font-family: Arial\;"><span style="background-color: rgb(255\, 255\, 255)\;">Can <span class="il">Zap</span> <span class="il">Pronto</span> and Gale save the Earth from the maniacal machinations of the evil Emperor from the planet Pergo? </span></span></span><br />\n&nbsp\;</p>\n\n<p><span style="font-size: small\;"><span style="font-family: Arial\;"><span style="background-color: rgb(255\, 255\, 255)\;">You&#39\;ll only know if you attend the performance</span></span>!</span></p>\n
LOCATION:104 Mildred St. Columbiana Al\, 35051
UID:e.145.5526
SEQUENCE:3
DTSTAMP:20260423T120147Z
URL:https://business.shelbychamber.org/events/details/zap-pronto-08-08-2014-5526
END:VEVENT

END:VCALENDAR
