BEGIN:VCALENDAR
VERSION:2.0
PRODID:-//ChamberMaster//Event Calendar 2.0//EN
METHOD:PUBLISH
X-PUBLISHED-TTL:P3D
REFRESH-INTERVAL:P3D
CALSCALE:GREGORIAN
BEGIN:VEVENT
DTSTART:20120811T143000Z
DTEND:20120811T180000Z
X-MICROSOFT-CDO-ALLDAYEVENT:FALSE
SUMMARY:ZIJA International Super Saturday in the Magic City
DESCRIPTION:Zija International is a direct to consumer company marketing Moringa Oleifera.  Moringa Oleifera is known as "the miracle tree"\, it is the most nutrient dense tree in the world. Each propriety product is 100% natural and contains over 90 verifiable nutrients.  Come and find out about the only 100% natural product that has 36 anti-inflammatories in one serving!  Find out how you can build your own business!
X-ALT-DESC;FMTTYPE=text/html:Zija International is a direct to consumer company marketing Moringa Oleifera.&nbsp\; Moringa Oleifera is known as &quot\;the miracle tree&quot\;\, it is the most nutrient dense tree in the world. Each propriety product is 100% natural and contains over 90 verifiable nutrients.&nbsp\; Come and find out about the only 100% natural product that has 36 anti-inflammatories in one serving!&nbsp\; Find out how you can build your own business!
LOCATION:The Harbert Center\, 2019 4th Avenue North Birmingham\, AL 35203
UID:e.145.4302
SEQUENCE:3
DTSTAMP:20260425T024853Z
URL:https://business.shelbychamber.org/events/details/zija-international-super-saturday-in-the-magic-city-08-11-2012-4302
END:VEVENT

END:VCALENDAR
