BEGIN:VCALENDAR
VERSION:2.0
PRODID:-//ChamberMaster//Event Calendar 2.0//EN
METHOD:PUBLISH
X-PUBLISHED-TTL:P3D
REFRESH-INTERVAL:P3D
CALSCALE:GREGORIAN
BEGIN:VEVENT
DTSTART:20140503T133000Z
DTEND:20140504T023000Z
X-MICROSOFT-CDO-ALLDAYEVENT:FALSE
SUMMARY:Zumba!
DESCRIPTION:On Saturdays beginning April 5th and running through May 10th\, the Pelham Public Library will be offering an introduction to Zumba from 8:30 to 9:30 am. Zumba is a fitness program that involves both dance and aerobic elements that draws its choreography from hip-hop\, soca\, samba\, salsa\, merengue\, mambo and martial arts. This class will run for a six week period every Saturday. The library suggests that participants wear comfortable\, loose clothes along with gym shoes. Space is very limited\, so register early! The $30 fee covers all six week sessions. Payment is required upon registration. Ages 18-up. Call the library at 620-6418 for more information.
X-ALT-DESC;FMTTYPE=text/html:On Saturdays beginning April 5th and running through May 10th\, the Pelham Public Library will be offering an introduction to Zumba from 8:30 to 9:30 am. Zumba is a fitness program that involves both dance and aerobic elements that draws its choreography from hip-hop\, soca\, samba\, salsa\, merengue\, mambo and martial arts. This class will run for a six week period every Saturday. The library suggests that participants wear comfortable\, loose clothes along with gym shoes. Space is very limited\, so register early! The $30 fee covers all six week sessions. Payment is required upon registration. Ages 18-up. Call the library at 620-6418 for more information.
LOCATION:Pelham Public Library 3160 Pelham Parkway Pelham\, Alabama 35124
UID:e.145.5110
SEQUENCE:3
DTSTAMP:20260423T165002Z
URL:https://business.shelbychamber.org/events/details/zumba-05-03-2014-5110
END:VEVENT

END:VCALENDAR
